BEGIN:VCALENDAR
VERSION:2.0
PRODID:Spatie calendar-links
BEGIN:VEVENT
UID:83ffca91ba7e8f94cc93699280411c09
SUMMARY:Re-awaken Your Faith
DTSTAMP;TZID=America/Los_Angeles:20210110T120000
DTSTART;TZID=America/Los_Angeles:20210110T120000
DTEND;TZID=America/Los_Angeles:20210110T160000
LOCATION:49.246517448191\, -122.97512293424
END:VEVENT
END:VCALENDAR