BEGIN:VCALENDAR
VERSION:2.0
PRODID:Spatie calendar-links
BEGIN:VEVENT
UID:d05dd0f0a607720159f4fdd5aeff453b
SUMMARY:Zoom meeting with Dr. Carrie Madej
DTSTAMP;TZID=America/Vancouver:20210421T000000
DTSTART;TZID=America/Vancouver:20210421T000000
DTEND;TZID=America/Vancouver:20210421T000000
LOCATION:Canada
END:VEVENT
END:VCALENDAR