BEGIN:VCALENDAR
VERSION:2.0
PRODID:Spatie calendar-links
BEGIN:VEVENT
UID:2069cc47c118a731517edfd7d796c3d7
SUMMARY:Freedom Convoy
DTSTAMP;TZID=America/Los_Angeles:20210422T080000
DTSTART;TZID=America/Los_Angeles:20210422T080000
DTEND;TZID=America/Los_Angeles:20210422T080500
END:VEVENT
END:VCALENDAR