BEGIN:VCALENDAR
VERSION:2.0
PRODID:Spatie calendar-links
BEGIN:VEVENT
UID:898503a491de279fd75189a2fb64890b
SUMMARY:Canada United Freedom Rally May 1st
DTSTAMP;TZID=America/Vancouver:20210501T123000
DTSTART;TZID=America/Vancouver:20210501T123000
DTEND;TZID=America/Vancouver:20210501T163000
LOCATION:750 Hornby Street\, Vancouver\, BC\, Canada
END:VEVENT
END:VCALENDAR