BEGIN:VCALENDAR
VERSION:2.0
PRODID:Spatie calendar-links
BEGIN:VEVENT
UID:69887b236d819b680ae4218c29bebc1b
SUMMARY:Freedom Convoy April 29th
DTSTAMP;TZID=America/Edmonton:20210429T083000
DTSTART;TZID=America/Edmonton:20210429T083000
DTEND;TZID=America/Edmonton:20210429T090000
LOCATION:3515 Thatcher Avenue\, Saskatoon\, Saskatchewan \, Canada
END:VEVENT
END:VCALENDAR