BEGIN:VCALENDAR
VERSION:2.0
PRODID:Spatie calendar-links
BEGIN:VEVENT
UID:1cd28cc8d2351a8d96362734dde2e8ae
SUMMARY:Hamilton Rally and March April 24th
DTSTAMP;TZID=America/Toronto:20210424T140000
DTSTART;TZID=America/Toronto:20210424T140000
DTEND;TZID=America/Toronto:20210424T170000
LOCATION:1 Hughson St. South \, Hamilton\, Ontario\, Canada
END:VEVENT
END:VCALENDAR