BEGIN:VCALENDAR
VERSION:2.0
PRODID:Spatie calendar-links
BEGIN:VEVENT
UID:5ca78ff00087ddfdf34dd3762d0b94ae
SUMMARY:Peterborough Rally April 24th
DTSTAMP;TZID=America/Vancouver:20210424T120000
DTSTART;TZID=America/Vancouver:20210424T120000
DTEND;TZID=America/Vancouver:20210424T160000
LOCATION:501 George St. North\, Peterborough\, Ontario\, Canada
END:VEVENT
END:VCALENDAR