BEGIN:VCALENDAR
VERSION:2.0
PRODID:Spatie calendar-links
BEGIN:VEVENT
UID:80448c3c41937e4c0e4230f5a4926b01
SUMMARY:3rd Annual Advanced Medicine Conference May 29-30
DTSTAMP;TZID=America/North_Dakota/Center:20210529T000000
DTSTART;TZID=America/North_Dakota/Center:20210529T000000
DTEND;TZID=America/North_Dakota/Center:20210530T000000
LOCATION:Sioux Falls\, South Dakota\, United States
END:VEVENT
END:VCALENDAR