BEGIN:VCALENDAR
VERSION:2.0
PRODID:Spatie calendar-links
BEGIN:VEVENT
UID:c9071edc29f2431fd5e8b19a8b779f4a
SUMMARY:Rally moved due to police blockade Apr 25th
DTSTAMP;TZID=America/Toronto:20210425T140000
DTSTART;TZID=America/Toronto:20210425T140000
DTEND;TZID=America/Toronto:20210425T170000
LOCATION:55 Queen St.\, Stratford\, Ontario\, Canada
END:VEVENT
END:VCALENDAR