BEGIN:VCALENDAR
VERSION:2.0
PRODID:Spatie calendar-links
BEGIN:VEVENT
UID:fb22314decd2792fb0626e59877a44b3
SUMMARY:Strengthen Your Intuitoin 
DTSTAMP;TZID=America/Los_Angeles:20210221T110000
DTSTART;TZID=America/Los_Angeles:20210221T110000
DTEND;TZID=America/Los_Angeles:20210221T170000
LOCATION:Burnaby\, BC\, Canada
END:VEVENT
END:VCALENDAR