BEGIN:VCALENDAR
VERSION:2.0
PRODID:Spatie calendar-links
BEGIN:VEVENT
UID:c287f49951919515b865fd38af06c5b2
SUMMARY:Freedom Rally Weekend Apr 24th & 25th
DTSTAMP;TZID=America/Vancouver:20210424T120000
DTSTART;TZID=America/Vancouver:20210424T120000
DTEND;TZID=America/Vancouver:20210425T150000
LOCATION:489 Old Island Hwy\, Courtenay\, BC\, Canada
END:VEVENT
END:VCALENDAR