BEGIN:VCALENDAR
VERSION:2.0
PRODID:Spatie calendar-links
BEGIN:VEVENT
UID:eb22dbac13c117137297b4baa1dbae7d
SUMMARY:No More Lockdowns Mon Apr 26th
DTSTAMP;TZID=America/Vancouver:20210426T120000
DTSTART;TZID=America/Vancouver:20210426T120000
DTEND;TZID=America/Vancouver:20210426T150000
LOCATION:50 William St. North\, Chatham\, Ontario\, Canada
END:VEVENT
END:VCALENDAR