BEGIN:VCALENDAR
VERSION:2.0
PRODID:Spatie calendar-links
BEGIN:VEVENT
UID:706deb3c8316b19439c229b7bee9dda1
SUMMARY:Freedom Worship Rally May 2nd
DTSTAMP;TZID=America/Vancouver:20210502T110000
DTSTART;TZID=America/Vancouver:20210502T110000
DTEND;TZID=America/Vancouver:20210502T140000
LOCATION:Vancouver\, BC\, Canada
END:VEVENT
END:VCALENDAR