BEGIN:VCALENDAR
VERSION:2.0
PRODID:Spatie calendar-links
BEGIN:VEVENT
UID:8a409c79eea2c026f8b6f8d79a0e489c
SUMMARY:Winnipeg Rally Apr 25th
DTSTAMP;TZID=America/Winnipeg:20210425T140000
DTSTART;TZID=America/Winnipeg:20210425T140000
DTEND;TZID=America/Winnipeg:20210425T170000
LOCATION:1 Forks Market Rd.\, Winnipeg\, Manitoba\, Canada
END:VEVENT
END:VCALENDAR