BEGIN:VCALENDAR
VERSION:2.0
PRODID:Spatie calendar-links
BEGIN:VEVENT
UID:10769239e781a4acd64933b647a293be
SUMMARY:Sunset Beach Freedom Rally May 8th
DTSTAMP;TZID=America/Vancouver:20210508T180000
DTSTART;TZID=America/Vancouver:20210508T180000
DTEND;TZID=America/Vancouver:20210508T220000
LOCATION:Vancouver\, BC\, Canada
END:VEVENT
END:VCALENDAR