BEGIN:VCALENDAR
VERSION:2.0
PRODID:Spatie calendar-links
BEGIN:VEVENT
UID:672b1402fd0dc0c30e8870007586d59a
SUMMARY:Meeting Coast to Coast May 1st
DTSTAMP;TZID=America/Denver:20210501T170000
DTSTART;TZID=America/Denver:20210501T170000
DTEND;TZID=America/Denver:20210501T190000
LOCATION:Canada
END:VEVENT
END:VCALENDAR