BEGIN:VCALENDAR
VERSION:2.0
PRODID:Spatie calendar-links
BEGIN:VEVENT
UID:6f69910d39b0ff71aa36d59f0712655f
SUMMARY:Shopping Rally
DTSTAMP;TZID=America/Los_Angeles:20210430T190000
DTSTART;TZID=America/Los_Angeles:20210430T190000
DTEND;TZID=America/Los_Angeles:20210430T203000
LOCATION:10153  King George Blvd\, Surrey\, British Columbia\, Canada
END:VEVENT
END:VCALENDAR