BEGIN:VCALENDAR
VERSION:2.0
PRODID:Spatie calendar-links
BEGIN:VEVENT
UID:01b1c4f14c7557f43b946b0639834856
SUMMARY:Freedom for Truth Conference May 7th
DTSTAMP;TZID=America/Vancouver:20210507T170000
DTSTART;TZID=America/Vancouver:20210507T170000
DTEND;TZID=America/Vancouver:20210507T200000
LOCATION:Canada
END:VEVENT
END:VCALENDAR