BEGIN:VCALENDAR
VERSION:2.0
PRODID:Spatie calendar-links
BEGIN:VEVENT
UID:6853b3b9d5fd729751a71f7a3f765e46
SUMMARY:2021 Freedom Events In Vancouver\, B.C.
DTSTAMP;TZID=America/Vancouver:20210110T000000
DTSTART;TZID=America/Vancouver:20210110T000000
DTEND;TZID=America/Vancouver:20210131T000000
LOCATION:Vancouver\, BC\, Canada
END:VEVENT
END:VCALENDAR