BEGIN:VCALENDAR
VERSION:2.0
PRODID:Spatie calendar-links
BEGIN:VEVENT
UID:80272f59bc2a2209fd5772a3086ecf42
SUMMARY:Canada United Freedom Rally May 1st
DTSTAMP;TZID=America/Winnipeg:20210501T130000
DTSTART;TZID=America/Winnipeg:20210501T130000
DTEND;TZID=America/Winnipeg:20210501T160000
LOCATION:1 Forks Market Rd.\, Winnipeg\, Manitoba\, Canada
END:VEVENT
END:VCALENDAR