BEGIN:VCALENDAR
VERSION:2.0
PRODID:Spatie calendar-links
BEGIN:VEVENT
UID:4364842dfc88dc905edb0c4d3a6227c1
SUMMARY:Canada United Freedom Rally May 1st
DTSTAMP;TZID=America/Toronto:20210501T120000
DTSTART;TZID=America/Toronto:20210501T120000
DTEND;TZID=America/Toronto:20210501T150000
LOCATION:605 Rossland Rd. East\, Whitby\, Ontario\, Canada
END:VEVENT
END:VCALENDAR