BEGIN:VCALENDAR
VERSION:2.0
PRODID:Spatie calendar-links
BEGIN:VEVENT
UID:b8dbf968c47bbc55c8fe5b5607e41681
SUMMARY:Constitutional Rights Centre
DTSTAMP;TZID=Pacific/Chatham:20210429T000000
DTSTART;TZID=Pacific/Chatham:20210429T000000
DTEND;TZID=Pacific/Chatham:20210429T000000
END:VEVENT
END:VCALENDAR