BEGIN:VCALENDAR
VERSION:2.0
PRODID:Spatie calendar-links
BEGIN:VEVENT
UID:69fd13cc4b40993e17f694d0669e6da9
SUMMARY:No More Lockdowns May 1st
DTSTAMP;TZID=America/Toronto:20210501T120000
DTSTART;TZID=America/Toronto:20210501T120000
DTEND;TZID=America/Toronto:20210501T150000
LOCATION:200 Brady St.\, Sudbury\, Ontario\, Canada
END:VEVENT
END:VCALENDAR