BEGIN:VCALENDAR
VERSION:2.0
PRODID:Spatie calendar-links
BEGIN:VEVENT
UID:70fb49332c236094aa7fd5764b339726
SUMMARY:No More Lockdowns Hamilton May 1st
DTSTAMP;TZID=America/Vancouver:20210501T140000
DTSTART;TZID=America/Vancouver:20210501T140000
DTEND;TZID=America/Vancouver:20210501T160000
LOCATION:71 King St East\, Stoney Creek\, Ontario\, Canada
END:VEVENT
END:VCALENDAR