BEGIN:VCALENDAR
VERSION:2.0
PRODID:Spatie calendar-links
BEGIN:VEVENT
UID:1fbc2ffce3b99dd8cf9ca7f365648ed3
SUMMARY:No More Lockdowns - Cornwall
DTSTAMP;TZID=America/New_York:20210501T120000
DTSTART;TZID=America/New_York:20210501T120000
DTEND;TZID=America/New_York:20210501T140000
LOCATION:1000 Pitt Street\, Cornwall\, Ontario\, Canada
END:VEVENT
END:VCALENDAR