BEGIN:VCALENDAR
VERSION:2.0
PRODID:Spatie calendar-links
BEGIN:VEVENT
UID:ce315d4f27b45180918492af18388e73
SUMMARY:Festival of Life Rallies North America
DTSTAMP;TZID=America/Toronto:20210110T120000
DTSTART;TZID=America/Toronto:20210110T120000
DTEND;TZID=America/Toronto:20210228T080000
LOCATION:Toronto\, ON\, Canada
END:VEVENT
END:VCALENDAR