BEGIN:VCALENDAR
VERSION:2.0
PRODID:Spatie calendar-links
BEGIN:VEVENT
UID:d6078a481481ee7a333492aa7d6a0aa1
SUMMARY:Winnipeg Rally May 3rd
DTSTAMP;TZID=America/Winnipeg:20210503T130000
DTSTART;TZID=America/Winnipeg:20210503T130000
DTEND;TZID=America/Winnipeg:20210503T160000
LOCATION:408 York Ave.\, Winnipeg\, Manitoba\, Canada
END:VEVENT
END:VCALENDAR