BEGIN:VCALENDAR
VERSION:2.0
PRODID:Spatie calendar-links
BEGIN:VEVENT
UID:00b170e31e56ecaa62c92a8f0ff0522e
SUMMARY:Protecting Rights Toronto May 8th
DTSTAMP;TZID=America/Toronto:20210508T110000
DTSTART;TZID=America/Toronto:20210508T110000
DTEND;TZID=America/Toronto:20210508T120000
LOCATION:900 Bay St.\, Toronto\, Ontario\, Canada
END:VEVENT
END:VCALENDAR