BEGIN:VCALENDAR
VERSION:2.0
PRODID:Spatie calendar-links
BEGIN:VEVENT
UID:7f9cc228b9eb612dfb757372f6983f27
SUMMARY:McDougall Center Rally May 4th
DTSTAMP;TZID=America/Edmonton:20210504T160000
DTSTART;TZID=America/Edmonton:20210504T160000
DTEND;TZID=America/Edmonton:20210504T170000
LOCATION:Calgary\, Alberta\, Canada
END:VEVENT
END:VCALENDAR