BEGIN:VCALENDAR
VERSION:2.0
PRODID:Spatie calendar-links
BEGIN:VEVENT
UID:03eccab79e7901500c1a70a792415b99
SUMMARY:National Patriot Day May 24th
DTSTAMP;TZID=America/Vancouver:20210524T000000
DTSTART;TZID=America/Vancouver:20210524T000000
DTEND;TZID=America/Vancouver:20210525T000000
LOCATION:Canada
END:VEVENT
END:VCALENDAR