BEGIN:VCALENDAR
VERSION:2.0
PRODID:Spatie calendar-links
BEGIN:VEVENT
UID:0fd44cefea35502231fc3f4330d80cd7
SUMMARY:BUILDING THE SOLUTION ONTARIO – Work/Fire/Food/Fun Meetup
DTSTAMP;TZID=America/New_York:20210508T130000
DTSTART;TZID=America/New_York:20210508T130000
DTEND;TZID=America/New_York:20210508T170000
END:VEVENT
END:VCALENDAR