BEGIN:VCALENDAR
VERSION:2.0
PRODID:Spatie calendar-links
BEGIN:VEVENT
UID:da13a1969be736b8bdcada17870ba4ee
SUMMARY:BUILDING THE SOLUTION ONTARIO – Work/Fire/Food/Fun Meetup
DTSTAMP;TZID=America/New_York:20210515T130000
DTSTART;TZID=America/New_York:20210515T130000
DTEND;TZID=America/New_York:20210515T170000
END:VEVENT
END:VCALENDAR