BEGIN:VCALENDAR
VERSION:2.0
PRODID:Spatie calendar-links
BEGIN:VEVENT
UID:96df40ad92bffc345f32d43a68f34b9d
SUMMARY:World Wide Freedom Rally
DTSTAMP;TZID=America/Halifax:20210515T150000
DTSTART;TZID=America/Halifax:20210515T150000
DTEND;TZID=America/Halifax:20210515T220000
LOCATION:22 Budd Avenue\, Saint Stephen\, New Brunswick\, Canada
END:VEVENT
END:VCALENDAR