BEGIN:VCALENDAR
VERSION:2.0
PRODID:Spatie calendar-links
BEGIN:VEVENT
UID:080443a8fd8846d8a425d8aeb82fd078
SUMMARY:Break The Shopping Barrier
DTSTAMP;TZID=America/Los_Angeles:20210508T150000
DTSTART;TZID=America/Los_Angeles:20210508T150000
DTEND;TZID=America/Los_Angeles:20210508T180000
LOCATION:10153 King George Blvd\, Surrey\, British Columbia\, Canada
END:VEVENT
END:VCALENDAR