BEGIN:VCALENDAR
VERSION:2.0
PRODID:Spatie calendar-links
BEGIN:VEVENT
UID:b498901e9a329b4eeb2fc5b9e9455e20
SUMMARY:NATIONAL PATRIOT DAY
DTSTAMP;TZID=America/Los_Angeles:20210524T000000
DTSTART;TZID=America/Los_Angeles:20210524T000000
DTEND;TZID=America/Los_Angeles:20210524T235900
LOCATION:Canada
END:VEVENT
END:VCALENDAR