BEGIN:VCALENDAR
VERSION:2.0
PRODID:Spatie calendar-links
BEGIN:VEVENT
UID:ff16dd64f466cdb54369ae289a7b1da3
SUMMARY:Chakalaka Restaurant Rally May 10th
DTSTAMP;TZID=America/Vancouver:20210511T093000
DTSTART;TZID=America/Vancouver:20210511T093000
DTEND;TZID=America/Vancouver:20210511T120000
LOCATION:850 Burdett Ave\, Victoria\, BC\, Canada
END:VEVENT
END:VCALENDAR