BEGIN:VCALENDAR
VERSION:2.0
PRODID:Spatie calendar-links
BEGIN:VEVENT
UID:0b83bea52e90cc3b77b904b62a4d4860
SUMMARY:Freedom Rally Dundas Square
DTSTAMP;TZID=America/Toronto:20210109T120000
DTSTART;TZID=America/Toronto:20210109T120000
DTEND;TZID=America/Toronto:20210109T150000
LOCATION:1 Dundas Street East\, Toronto\, ON\, Canada
END:VEVENT
END:VCALENDAR