BEGIN:VCALENDAR
VERSION:2.0
PRODID:Spatie calendar-links
BEGIN:VEVENT
UID:0de62719c607c301a9cc07685e140b80
SUMMARY:No More Lockdowns Kitchener/Waterloo May 9th
DTSTAMP;TZID=America/Vancouver:20210509T130000
DTSTART;TZID=America/Vancouver:20210509T130000
DTEND;TZID=America/Vancouver:20210509T160000
LOCATION:25 King St South\, Waterloo\, Ontario\, Canada
END:VEVENT
END:VCALENDAR