BEGIN:VCALENDAR
VERSION:2.0
PRODID:Spatie calendar-links
BEGIN:VEVENT
UID:eff07eb3265bddbc7cf7d6e797b1584d
SUMMARY:A MOTHER'S DAY RALLY
DTSTAMP;TZID=America/Los_Angeles:20210509T130000
DTSTART;TZID=America/Los_Angeles:20210509T130000
DTEND;TZID=America/Los_Angeles:20210509T140000
LOCATION:1055 Canada Place\, Vancouver\, British Columbia\, Canada
END:VEVENT
END:VCALENDAR