BEGIN:VCALENDAR
VERSION:2.0
PRODID:Spatie calendar-links
BEGIN:VEVENT
UID:0248457d4ef6e247630e8d97b73ce098
SUMMARY:Free the North Rally Barrie May 8th
DTSTAMP;TZID=America/Toronto:20210508T120000
DTSTART;TZID=America/Toronto:20210508T120000
DTEND;TZID=America/Toronto:20210508T133000
LOCATION:555 Bayview Dr.\, Barrie\, Ontario\, Canada
END:VEVENT
END:VCALENDAR