BEGIN:VCALENDAR
VERSION:2.0
PRODID:Spatie calendar-links
BEGIN:VEVENT
UID:9e2230ad930eae0e8fdd1610d9166c17
SUMMARY:Canada Freedom Parade Tillsonburg/Norwich May 8th
DTSTAMP;TZID=America/Toronto:20210508T103000
DTSTART;TZID=America/Toronto:20210508T103000
DTEND;TZID=America/Toronto:20210508T130000
LOCATION:400 Simcoe St.\, Tillsonburg\, Ontario\, Canada
END:VEVENT
END:VCALENDAR