BEGIN:VCALENDAR
VERSION:2.0
PRODID:Spatie calendar-links
BEGIN:VEVENT
UID:b4f9983f19fc1a61e5aa226a27315a80
SUMMARY:World Wide Rally May 15th Victoria
DTSTAMP;TZID=America/Vancouver:20210515T120000
DTSTART;TZID=America/Vancouver:20210515T120000
DTEND;TZID=America/Vancouver:20210515T150000
LOCATION:Victoria\, BC\, Canada
END:VEVENT
END:VCALENDAR