BEGIN:VCALENDAR
VERSION:2.0
PRODID:Spatie calendar-links
BEGIN:VEVENT
UID:50d89e6cf6942f6e81d2940003c25ae4
SUMMARY:Meeting Coast to Coast May 11th
DTSTAMP;TZID=America/Toronto:20210511T160000
DTSTART;TZID=America/Toronto:20210511T160000
DTEND;TZID=America/Toronto:20210511T190000
LOCATION:Canada
END:VEVENT
END:VCALENDAR