BEGIN:VCALENDAR
VERSION:2.0
PRODID:Spatie calendar-links
BEGIN:VEVENT
UID:eb7f899ec88b57adaf628b9437132549
SUMMARY:World Wide Rally May 15th Canada
DTSTAMP;TZID=America/Vancouver:20210515T010000
DTSTART;TZID=America/Vancouver:20210515T010000
DTEND;TZID=America/Vancouver:20210515T230000
LOCATION:Canada
END:VEVENT
END:VCALENDAR