BEGIN:VCALENDAR
VERSION:2.0
PRODID:Spatie calendar-links
BEGIN:VEVENT
UID:daf95a69b4ea174fd400ed10b9ec5254
SUMMARY:Freedom Rally In The Valley
DTSTAMP;TZID=America/Los_Angeles:20210529T120000
DTSTART;TZID=America/Los_Angeles:20210529T120000
DTEND;TZID=America/Los_Angeles:20210529T150000
LOCATION:961 Pembroke St W\, Pembroke\, Ontario\, Canada
END:VEVENT
END:VCALENDAR