BEGIN:VCALENDAR
VERSION:2.0
PRODID:Spatie calendar-links
BEGIN:VEVENT
UID:ce0aa3c55c27a353446baf93141c3531
SUMMARY:PROTEST NOTICE
DTSTAMP;TZID=America/Los_Angeles:20210515T130000
DTSTART;TZID=America/Los_Angeles:20210515T130000
DTEND;TZID=America/Los_Angeles:20210515T150000
LOCATION:533 Clarence Street\, London\, Ontario\, Canada
END:VEVENT
END:VCALENDAR