BEGIN:VCALENDAR
VERSION:2.0
PRODID:Spatie calendar-links
BEGIN:VEVENT
UID:5dde7e9a0aaf82070203fb2c7cb8e402
SUMMARY:World Wide Rally May 15th Police on guard for thee! Vancouver
DTSTAMP;TZID=America/Vancouver:20210515T123000
DTSTART;TZID=America/Vancouver:20210515T123000
DTEND;TZID=America/Vancouver:20210515T170000
LOCATION:Vancouver\, BC\, Canada
END:VEVENT
END:VCALENDAR