BEGIN:VCALENDAR
VERSION:2.0
PRODID:Spatie calendar-links
BEGIN:VEVENT
UID:39321653ef679bed0169c3731028e5c9
SUMMARY:United Non-Compliance
DTSTAMP;TZID=America/Los_Angeles:20210112T130000
DTSTART;TZID=America/Los_Angeles:20210112T130000
DTEND;TZID=America/Los_Angeles:20210112T190000
LOCATION:Toronto\, ON\, Canada
END:VEVENT
END:VCALENDAR