BEGIN:VCALENDAR
VERSION:2.0
PRODID:Spatie calendar-links
BEGIN:VEVENT
UID:fbea810df27b55f057f33c48ee9cf594
SUMMARY:Vancouver Island Freedom Convoy Nanaimo to Victoria May 15th
DTSTAMP;TZID=America/Vancouver:20210515T100000
DTSTART;TZID=America/Vancouver:20210515T100000
DTEND;TZID=America/Vancouver:20210515T130000
LOCATION:Nanaimo\, BC\, Canada
END:VEVENT
END:VCALENDAR