BEGIN:VCALENDAR
VERSION:2.0
PRODID:Spatie calendar-links
BEGIN:VEVENT
UID:7e10ab4bc8b0ebbb315a680a00d8b871
SUMMARY:World Wide Rally May 15th Winnipeg
DTSTAMP;TZID=America/Winnipeg:20210515T140000
DTSTART;TZID=America/Winnipeg:20210515T140000
DTEND;TZID=America/Winnipeg:20210515T170000
LOCATION:Winnipeg\, Manitoba\, Canada
END:VEVENT
END:VCALENDAR